BEGIN:VCALENDAR
VERSION:2.0
PRODID:-//Sabre//Sabre VObject 4.5.8//EN
CALSCALE:GREGORIAN
BEGIN:VEVENT
UID:sabre-vobject-e14b7cc4-7468-471f-93e9-8707dd2c5120
DTSTAMP:20260424T185809Z
SUMMARY:The Nice Boyzz
DESCRIPTION:https://regioningolstadt.com/the-nice-boyzz_id45124
DTSTART;TZID=Europe/Berlin:20260425T203000
DTEND;TZID=Europe/Berlin:20260425T223000
LOCATION:Die Drogerie – Live Club\, Luitpoldstraße 180 B\, 86633 Neuburg
  an der Donau
END:VEVENT
END:VCALENDAR
