BEGIN:VCALENDAR
VERSION:2.0
PRODID:-//Sabre//Sabre VObject 4.5.8//EN
CALSCALE:GREGORIAN
BEGIN:VEVENT
UID:sabre-vobject-42f6e03d-e183-42e7-b390-91e05b29c849
DTSTAMP:20260421T115342Z
SUMMARY:Nonsens
DESCRIPTION:https://regioningolstadt.com/nonsens_id45115
DTSTART;TZID=Europe/Berlin:20260517T130000
DTEND;TZID=Europe/Berlin:20260517T190000
LOCATION:Kunsthof Leidling\, Bidinger Straße 1\, 86666 Burgheim
END:VEVENT
END:VCALENDAR
