BEGIN:VCALENDAR
VERSION:2.0
PRODID:-//Sabre//Sabre VObject 4.5.8//EN
CALSCALE:GREGORIAN
BEGIN:VEVENT
UID:sabre-vobject-00d1f147-cc36-4d24-95e6-79b8315441c4
DTSTAMP:20260421T113559Z
SUMMARY:Nonsens
DESCRIPTION:https://regioningolstadt.com/nonsens_id45114
DTSTART;TZID=Europe/Berlin:20260516T140000
DTEND;TZID=Europe/Berlin:20260516T200000
LOCATION:Kunsthof Leidling\, Bidinger Straße 1\, 86666 Burgheim
END:VEVENT
END:VCALENDAR
