BEGIN:VCALENDAR
VERSION:2.0
PRODID:-//Sabre//Sabre VObject 4.5.8//EN
CALSCALE:GREGORIAN
BEGIN:VEVENT
UID:sabre-vobject-e85bcbf8-758e-498a-8c34-65e6b0053079
DTSTAMP:20260421T132140Z
SUMMARY:Schnelle Hilfe\, lange Wartezeiten? Ein Blick hinter die Kulissen d
 er Notaufnahme
DESCRIPTION:https://regioningolstadt.com/schnelle-hilfe-lange-wartezeiten-e
 in-blick-hinter-die-kulissen-der-notaufnahme_id45113
DTSTART;TZID=Europe/Berlin:20260519T180000
DURATION:PT30M
LOCATION:AMEOS Institut Süd\, Bahnhofstraße 103b\, 86633 Neuburg an der D
 onau
END:VEVENT
END:VCALENDAR
