BEGIN:VCALENDAR
VERSION:2.0
PRODID:-//Sabre//Sabre VObject 4.5.8//EN
CALSCALE:GREGORIAN
BEGIN:VEVENT
UID:sabre-vobject-acd5ca83-d484-4383-9b10-3c12317ef964
DTSTAMP:20260421T113559Z
SUMMARY:Nonsens
DESCRIPTION:https://regioningolstadt.com/nonsens_id45108
DTSTART;TZID=Europe/Berlin:20260515T160000
DTEND;TZID=Europe/Berlin:20260515T200000
LOCATION:Kunsthof Leidling\, Bidinger Straße 1\, 86666 Burgheim
END:VEVENT
END:VCALENDAR
