BEGIN:VCALENDAR
VERSION:2.0
PRODID:-//Sabre//Sabre VObject 4.5.8//EN
CALSCALE:GREGORIAN
BEGIN:VEVENT
UID:sabre-vobject-4f56e4f0-a313-4be7-b733-97343389bebb
DTSTAMP:20260421T113525Z
SUMMARY:Ludwig Wright live in der Drogerie
DESCRIPTION:https://regioningolstadt.com/ludwig-wright-live-in-der-drogerie
 _id45106
DTSTART;TZID=Europe/Berlin:20260424T203000
DTEND;TZID=Europe/Berlin:20260424T223000
LOCATION:Die Drogerie – Live Club\, Luitpoldstraße 180 B\, 86633 Neuburg
  an der Donau
END:VEVENT
END:VCALENDAR
