BEGIN:VCALENDAR
VERSION:2.0
PRODID:-//Sabre//Sabre VObject 4.5.8//EN
CALSCALE:GREGORIAN
BEGIN:VEVENT
UID:sabre-vobject-5c0f8b39-6414-4d13-84ce-6abe41a7690a
DTSTAMP:20260421T234647Z
SUMMARY:HOFFMANN MINERAL - Entdeckungsreise durch Biotope und aktive Abbaus
 tätten der Neuburger Kieselerde
DESCRIPTION:https://regioningolstadt.com/hoffmann-mineral-entdeckungsreise-
 durch-biotope-und-aktive-abbaustaetten-der-neuburger-kieselerde_id45105
DTSTART;TZID=Europe/Berlin:20260627T133000
DTEND;TZID=Europe/Berlin:20260627T170000
END:VEVENT
END:VCALENDAR
