BEGIN:VCALENDAR
VERSION:2.0
PRODID:-//Sabre//Sabre VObject 4.5.8//EN
CALSCALE:GREGORIAN
BEGIN:VEVENT
UID:sabre-vobject-ae6ff7cc-913c-4bc3-ac7f-a5b710e81734
DTSTAMP:20260421T205556Z
SUMMARY:HOFFMANN MINERAL - Entdeckungsreise durch Biotope und aktive Abbaus
 tätten der Neuburger Kieselerde
DESCRIPTION:https://regioningolstadt.com/hoffmann-mineral-entdeckungsreise-
 durch-biotope-und-aktive-abbaustaetten-der-neuburger-kieselerde_id45104
DTSTART;TZID=Europe/Berlin:20260613T133000
DTEND;TZID=Europe/Berlin:20260613T170000
LOCATION:Hoffmann Mineral GmbH\, Münchener Straße 75\, 86633  Neuburg an 
 der Donau
END:VEVENT
END:VCALENDAR
