BEGIN:VCALENDAR
VERSION:2.0
PRODID:-//Sabre//Sabre VObject 4.5.8//EN
CALSCALE:GREGORIAN
BEGIN:VEVENT
UID:sabre-vobject-a5f52256-70c0-4bcd-98cc-3fdc5760fa20
DTSTAMP:20260420T110731Z
SUMMARY:Weinverkostung mit Weinbergführung
DESCRIPTION:https://regioningolstadt.com/weinverkostung-mit-weinbergfuehrun
 g_id45079
DTSTART;TZID=Europe/Berlin:20260815T160000
DTEND;TZID=Europe/Berlin:20260815T190000
LOCATION:Weinberg & Weinhaus Tremml\, \, 86633 Neuburg an der Donau
END:VEVENT
END:VCALENDAR
