BEGIN:VCALENDAR
VERSION:2.0
PRODID:-//Sabre//Sabre VObject 4.5.8//EN
CALSCALE:GREGORIAN
BEGIN:VEVENT
UID:sabre-vobject-c3c49c4c-87a9-4f28-9910-a058d969c050
DTSTAMP:20260421T222437Z
SUMMARY:Multi-Kulti-Bürgerfest
DESCRIPTION:https://regioningolstadt.com/multi-kulti-buergerfest_id45078
DTSTART;TZID=Europe/Berlin:20260620T140000
DTEND;TZID=Europe/Berlin:20260620T233000
LOCATION:Volksfestplatz\, Volksfestplatz\, 86633 Neuburg an der Donau
END:VEVENT
END:VCALENDAR
