BEGIN:VCALENDAR
VERSION:2.0
PRODID:-//Sabre//Sabre VObject 4.5.8//EN
CALSCALE:GREGORIAN
BEGIN:VEVENT
UID:sabre-vobject-c5b50a2d-552e-41d7-9b9b-1ee165420a26
DTSTAMP:20260421T115345Z
SUMMARY:Busfahrt nach Regensburg
DESCRIPTION:https://regioningolstadt.com/busfahrt-nach-regensburg_id45069
DTSTART;TZID=Europe/Berlin:20260519T080000
DURATION:PT30M
END:VEVENT
END:VCALENDAR
