BEGIN:VCALENDAR
VERSION:2.0
PRODID:-//Sabre//Sabre VObject 4.5.8//EN
CALSCALE:GREGORIAN
BEGIN:VEVENT
UID:sabre-vobject-00eb11a6-34e0-4a76-bb8d-a8c474b41e44
DTSTAMP:20260422T064944Z
SUMMARY:Freiluft-Training (Gymnastik)
DESCRIPTION:https://regioningolstadt.com/freiluft-training-gymnastik_id4506
 6
DTSTART;TZID=Europe/Berlin:20260630T100000
DTEND;TZID=Europe/Berlin:20260630T104500
LOCATION:Bürgerhaus Ostend\, Berliner Straße 164\, 86633 Neuburg an der D
 onau
END:VEVENT
END:VCALENDAR
