BEGIN:VCALENDAR
VERSION:2.0
PRODID:-//Sabre//Sabre VObject 4.5.8//EN
CALSCALE:GREGORIAN
BEGIN:VEVENT
UID:sabre-vobject-07e8b76a-0ad9-4cb3-8b24-846792dbe947
DTSTAMP:20260421T173752Z
SUMMARY:Freiluft-Training (Gymnastik)
DESCRIPTION:https://regioningolstadt.com/freiluft-training-gymnastik_id4506
 1
DTSTART;TZID=Europe/Berlin:20260526T100000
DTEND;TZID=Europe/Berlin:20260526T104500
LOCATION:Bürgerhaus Ostend\, Berliner Straße 164\, 86633 Neuburg an der D
 onau
END:VEVENT
END:VCALENDAR
