BEGIN:VCALENDAR
VERSION:2.0
PRODID:-//Sabre//Sabre VObject 4.5.8//EN
CALSCALE:GREGORIAN
BEGIN:VEVENT
UID:sabre-vobject-a2e25545-fd17-47e1-95cd-22d3dc009daf
DTSTAMP:20260420T040132Z
SUMMARY:Freiluft-Training (Gymnastik)
DESCRIPTION:https://regioningolstadt.com/freiluft-training-gymnastik_id4505
 9
DTSTART;TZID=Europe/Berlin:20260512T100000
DTEND;TZID=Europe/Berlin:20260512T104500
LOCATION:Bürgerhaus Ostend\, Berliner Straße 164\, 86633 Neuburg an der D
 onau
END:VEVENT
END:VCALENDAR
