BEGIN:VCALENDAR
VERSION:2.0
PRODID:-//Sabre//Sabre VObject 4.5.8//EN
CALSCALE:GREGORIAN
BEGIN:VEVENT
UID:sabre-vobject-7d3f15a7-d5ad-4472-9a1c-0b26af1c46e7
DTSTAMP:20260421T132143Z
SUMMARY:Boule-Spiel auf dem Volksfestplatz
DESCRIPTION:https://regioningolstadt.com/boule-spiel-auf-dem-volksfestplatz
 _id45056
DTSTART;TZID=Europe/Berlin:20260522T140000
DURATION:PT30M
LOCATION:Volksfestplatz\, Volksfestplatz\, 86633 Neuburg an der Donau
END:VEVENT
END:VCALENDAR
