BEGIN:VCALENDAR
VERSION:2.0
PRODID:-//Sabre//Sabre VObject 4.5.8//EN
CALSCALE:GREGORIAN
BEGIN:VEVENT
UID:sabre-vobject-b1cd2e9d-cc11-4412-a973-aaaa61f0b88f
DTSTAMP:20260421T113525Z
SUMMARY:Boule-Spiel auf dem Volksfestplatz
DESCRIPTION:https://regioningolstadt.com/boule-spiel-auf-dem-volksfestplatz
 _id45055
DTSTART;TZID=Europe/Berlin:20260515T140000
DURATION:PT30M
LOCATION:Volksfestplatz\, Volksfestplatz\, 86633 Neuburg an der Donau
END:VEVENT
END:VCALENDAR
