BEGIN:VCALENDAR
VERSION:2.0
PRODID:-//Sabre//Sabre VObject 4.5.8//EN
CALSCALE:GREGORIAN
BEGIN:VEVENT
UID:sabre-vobject-429ad5e7-abc1-44a6-9d2f-97139a2d8f13
DTSTAMP:20260420T010130Z
SUMMARY:Wiedersehen mit der Gegenwart - Malerei\, Zeichnung und Skulptur
DESCRIPTION:https://regioningolstadt.com/wiedersehen-mit-der-gegenwart-male
 rei-zeichnung-und-skulptur_id45045
DTSTART;TZID=Europe/Berlin:20260508T170000
DTEND;TZID=Europe/Berlin:20260508T190000
LOCATION:Städtische Galerie im Rathausfletz\, Karlsplatz A 12\, 86633 Neub
 urg an der Donau
END:VEVENT
END:VCALENDAR
