BEGIN:VCALENDAR
VERSION:2.0
PRODID:-//Sabre//Sabre VObject 4.5.8//EN
CALSCALE:GREGORIAN
BEGIN:VEVENT
UID:sabre-vobject-d3ccc79d-2fdf-436e-9e7e-6f0d668cde0c
DTSTAMP:20260420T010132Z
SUMMARY:Fledermäuse – Faszinierende Jäger der Nacht
DESCRIPTION:https://regioningolstadt.com/fledermaeuse-faszinierende-jaeger-
 der-nacht_id45029
DTSTART;TZID=Europe/Berlin:20260508T073000
DTEND;TZID=Europe/Berlin:20260508T120000
LOCATION:Landratsamt Neuburg-Schrobenhausen\, Platz-der-Deutschen-Einheit 1
 \, 86633 Neuburg an der Donau
END:VEVENT
END:VCALENDAR
