BEGIN:VCALENDAR
VERSION:2.0
PRODID:-//Sabre//Sabre VObject 4.5.8//EN
CALSCALE:GREGORIAN
BEGIN:VEVENT
UID:sabre-vobject-fe3bcc56-78ac-4e78-9b11-7de7bf276162
DTSTAMP:20260421T144905Z
SUMMARY:Fledermäuse – Faszinierende Jäger der Nacht
DESCRIPTION:https://regioningolstadt.com/fledermaeuse-faszinierende-jaeger-
 der-nacht_id45019
DTSTART;TZID=Europe/Berlin:20260527T073000
DTEND;TZID=Europe/Berlin:20260527T160000
LOCATION:Landratsamt Neuburg-Schrobenhausen\, Platz-der-Deutschen-Einheit 1
 \, 86633 Neuburg an der Donau
END:VEVENT
END:VCALENDAR
