BEGIN:VCALENDAR
VERSION:2.0
PRODID:-//Sabre//Sabre VObject 4.5.8//EN
CALSCALE:GREGORIAN
BEGIN:VEVENT
UID:sabre-vobject-67bad0b1-9f1e-439e-b7af-77a6e476d1b7
DTSTAMP:20260420T010134Z
SUMMARY:Fledermäuse – Faszinierende Jäger der Nacht
DESCRIPTION:https://regioningolstadt.com/fledermaeuse-faszinierende-jaeger-
 der-nacht_id45009
DTSTART;TZID=Europe/Berlin:20260512T073000
DTEND;TZID=Europe/Berlin:20260512T160000
LOCATION:Landratsamt Neuburg-Schrobenhausen\, Platz-der-Deutschen-Einheit 1
 \, 86633 Neuburg an der Donau
END:VEVENT
END:VCALENDAR
