BEGIN:VCALENDAR
VERSION:2.0
PRODID:-//Sabre//Sabre VObject 4.5.8//EN
CALSCALE:GREGORIAN
BEGIN:VEVENT
UID:sabre-vobject-786abd4a-86ca-492d-b25b-ccb275b5b370
DTSTAMP:20260421T111902Z
SUMMARY:Fledermäuse – Faszinierende Jäger der Nacht
DESCRIPTION:https://regioningolstadt.com/fledermaeuse-faszinierende-jaeger-
 der-nacht_id45002
DTSTART;TZID=Europe/Berlin:20260511T073000
DTEND;TZID=Europe/Berlin:20260511T160000
LOCATION:Landratsamt Neuburg-Schrobenhausen\, Platz-der-Deutschen-Einheit 1
 \, 86633 Neuburg an der Donau
END:VEVENT
END:VCALENDAR
