BEGIN:VCALENDAR
VERSION:2.0
PRODID:-//Sabre//Sabre VObject 4.5.8//EN
CALSCALE:GREGORIAN
BEGIN:VEVENT
UID:sabre-vobject-ead1a1b8-412b-4c51-b9a7-3fbe026aedc6
DTSTAMP:20260421T132143Z
SUMMARY:Fledermaus-Kasten-Kontrolle
DESCRIPTION:https://regioningolstadt.com/fledermaus-kasten-kontrolle_id4499
 7
DTSTART;TZID=Europe/Berlin:20260523T140000
DURATION:PT30M
END:VEVENT
END:VCALENDAR
