BEGIN:VCALENDAR
VERSION:2.0
PRODID:-//Sabre//Sabre VObject 4.5.8//EN
CALSCALE:GREGORIAN
BEGIN:VEVENT
UID:sabre-vobject-9251539b-19d4-4d9b-b562-1f2b67daa039
DTSTAMP:20260420T010127Z
SUMMARY:Geheimnisvolle Welt der Fledermäuse
DESCRIPTION:https://regioningolstadt.com/geheimnisvolle-welt-der-fledermaeu
 se_id44995
DTSTART;TZID=Europe/Berlin:20260505T183000
DURATION:PT30M
LOCATION:Haus im Moos\, Kleinhohenried 108\, 86668 Karlshuld
END:VEVENT
END:VCALENDAR
