BEGIN:VCALENDAR
VERSION:2.0
PRODID:-//Sabre//Sabre VObject 4.5.8//EN
CALSCALE:GREGORIAN
BEGIN:VEVENT
UID:sabre-vobject-dcbc07a9-cb04-4003-a205-b9970ff8edc4
DTSTAMP:20260419T135306Z
SUMMARY:Fledermaus basteln mit Kindern
DESCRIPTION:https://regioningolstadt.com/fledermaus-basteln-mit-kindern_id4
 4994
DTSTART;TZID=Europe/Berlin:20260425T140000
DURATION:PT30M
LOCATION:Haus im Moos\, Kleinhohenried 108\, 86668 Karlshuld
END:VEVENT
END:VCALENDAR
