BEGIN:VCALENDAR
VERSION:2.0
PRODID:-//Sabre//Sabre VObject 4.5.8//EN
CALSCALE:GREGORIAN
BEGIN:VEVENT
UID:sabre-vobject-377ebca7-9e01-42ec-84de-d8ac1e8e77a3
DTSTAMP:20260419T135308Z
SUMMARY:Frühlingsfest der Lebenshilfe Bayern Mitte
DESCRIPTION:https://regioningolstadt.com/fruehlingsfest-der-lebenshilfe-bay
 ern-mitte_id44986
DTSTART;TZID=Europe/Berlin:20260425T100000
DTEND;TZID=Europe/Berlin:20260425T170000
LOCATION:Lebenshilfe Werkstätte Neuburg\, Nördliche Grünauer Straße 38\
 , 86633 Neuburg an der Donau
END:VEVENT
END:VCALENDAR
