BEGIN:VCALENDAR
VERSION:2.0
PRODID:-//Sabre//Sabre VObject 4.5.8//EN
CALSCALE:GREGORIAN
BEGIN:VEVENT
UID:sabre-vobject-0f8cdee6-ec9c-4645-ad5c-0400f1c96053
DTSTAMP:20260421T111840Z
SUMMARY:Wiedersehen mit der Gegenwart - Malerei\, Zeichnung und Skulptur
DESCRIPTION:https://regioningolstadt.com/wiedersehen-mit-der-gegenwart-male
 rei-zeichnung-und-skulptur_id44971
DTSTART;TZID=Europe/Berlin:20260510T110000
DTEND;TZID=Europe/Berlin:20260510T190000
LOCATION:Städtische Galerie im Rathausfletz\, Karlsplatz A 12\, 86633 Neub
 urg an der Donau
END:VEVENT
END:VCALENDAR
