BEGIN:VCALENDAR
VERSION:2.0
PRODID:-//Sabre//Sabre VObject 4.5.8//EN
CALSCALE:GREGORIAN
BEGIN:VEVENT
UID:sabre-vobject-b47d51bc-3103-465e-aec4-ee4a81c58c41
DTSTAMP:20260419T214020Z
SUMMARY:Wiedersehen mit der Gegenwart - Malerei\, Zeichnung und Skulptur
DESCRIPTION:https://regioningolstadt.com/wiedersehen-mit-der-gegenwart-male
 rei-zeichnung-und-skulptur_id44970
DTSTART;TZID=Europe/Berlin:20260503T110000
DTEND;TZID=Europe/Berlin:20260503T190000
LOCATION:Städtische Galerie im Rathausfletz\, Karlsplatz A 12\, 86633 Neub
 urg an der Donau
END:VEVENT
END:VCALENDAR
