BEGIN:VCALENDAR
VERSION:2.0
PRODID:-//Sabre//Sabre VObject 4.5.8//EN
CALSCALE:GREGORIAN
BEGIN:VEVENT
UID:sabre-vobject-ad863a5c-7962-43cd-8a0c-1f681daba8cc
DTSTAMP:20260423T173208Z
SUMMARY:Wiedersehen mit der Gegenwart - Malerei\, Zeichnung und Skulptur
DESCRIPTION:https://regioningolstadt.com/wiedersehen-mit-der-gegenwart-male
 rei-zeichnung-und-skulptur_id44961
DTSTART;TZID=Europe/Berlin:20260424T170000
DTEND;TZID=Europe/Berlin:20260424T190000
LOCATION:Städtische Galerie im Rathausfletz\, Karlsplatz A 12\, 86633 Neub
 urg an der Donau
END:VEVENT
END:VCALENDAR
