BEGIN:VCALENDAR
VERSION:2.0
PRODID:-//Sabre//Sabre VObject 4.5.8//EN
CALSCALE:GREGORIAN
BEGIN:VEVENT
UID:sabre-vobject-a188f179-4815-40e9-a66c-76bb48ceea70
DTSTAMP:20260421T132144Z
SUMMARY:Neuburger Nachhaltigkeitsgespräche
DESCRIPTION:https://regioningolstadt.com/neuburger-nachhaltigkeitsgespraech
 e_id44937
DTSTART;TZID=Europe/Berlin:20260519T183000
DTEND;TZID=Europe/Berlin:20260519T200000
LOCATION:THI Campus Neuburg\, An der Hochschule B1\, 86633 Neuburg an der D
 onau
END:VEVENT
END:VCALENDAR
