BEGIN:VCALENDAR
VERSION:2.0
PRODID:-//Sabre//Sabre VObject 4.5.8//EN
CALSCALE:GREGORIAN
BEGIN:VEVENT
UID:sabre-vobject-b3b7fc76-5f68-4a6a-9faf-c85a4aac1e0d
DTSTAMP:20260420T040134Z
SUMMARY:Neuburger Nachhaltigkeitsgespräche
DESCRIPTION:https://regioningolstadt.com/neuburger-nachhaltigkeitsgespraech
 e_id44936
DTSTART;TZID=Europe/Berlin:20260505T183000
DTEND;TZID=Europe/Berlin:20260505T200000
LOCATION:THI Campus Neuburg\, An der Hochschule B1\, 86633 Neuburg an der D
 onau
END:VEVENT
END:VCALENDAR
