BEGIN:VCALENDAR
VERSION:2.0
PRODID:-//Sabre//Sabre VObject 4.5.8//EN
CALSCALE:GREGORIAN
BEGIN:VEVENT
UID:sabre-vobject-a59ba7d9-1782-4ac8-9b8d-30e5b98e980a
DTSTAMP:20260419T153945Z
SUMMARY:Neuburger Nachhaltigkeitsgespräche
DESCRIPTION:https://regioningolstadt.com/neuburger-nachhaltigkeitsgespraech
 e_id44935
DTSTART;TZID=Europe/Berlin:20260428T183000
DTEND;TZID=Europe/Berlin:20260428T200000
LOCATION:THI Campus Neuburg\, An der Hochschule B1\, 86633 Neuburg an der D
 onau
END:VEVENT
END:VCALENDAR
