BEGIN:VCALENDAR
VERSION:2.0
PRODID:-//Sabre//Sabre VObject 4.5.8//EN
CALSCALE:GREGORIAN
BEGIN:VEVENT
UID:sabre-vobject-b14ddc9d-ad1f-41e5-ba19-b5462caaca69
DTSTAMP:20260421T113526Z
SUMMARY:Jetzt sind wir dran
DESCRIPTION:https://regioningolstadt.com/jetzt-sind-wir-dran_id44914
DTSTART;TZID=Europe/Berlin:20260516T190000
DTEND;TZID=Europe/Berlin:20260516T220000
LOCATION:Stadtmuseum Neuburg an der Donau\, Amalienstraße  19\, 86633 Neub
 urg an der Donau
END:VEVENT
END:VCALENDAR
