BEGIN:VCALENDAR
VERSION:2.0
PRODID:-//Sabre//Sabre VObject 4.5.8//EN
CALSCALE:GREGORIAN
BEGIN:VEVENT
UID:sabre-vobject-6c8284d6-affb-4fa9-a48d-31b2882cd8d3
DTSTAMP:20260421T113526Z
SUMMARY:Jetzt sind wir dran
DESCRIPTION:https://regioningolstadt.com/jetzt-sind-wir-dran_id44913
DTSTART;TZID=Europe/Berlin:20260515T190000
DTEND;TZID=Europe/Berlin:20260515T220000
LOCATION:Stadtmuseum Neuburg an der Donau\, Amalienstraße  19\, 86633 Neub
 urg an der Donau
END:VEVENT
END:VCALENDAR
