BEGIN:VCALENDAR
VERSION:2.0
PRODID:-//Sabre//Sabre VObject 4.5.8//EN
CALSCALE:GREGORIAN
BEGIN:VEVENT
UID:sabre-vobject-901a886b-1bdc-4982-83a7-2502eb89a46f
DTSTAMP:20260420T040133Z
SUMMARY:Jetzt sind wir dran
DESCRIPTION:https://regioningolstadt.com/jetzt-sind-wir-dran_id44910
DTSTART;TZID=Europe/Berlin:20260508T190000
DTEND;TZID=Europe/Berlin:20260508T220000
LOCATION:Stadtmuseum Neuburg an der Donau\, Amalienstraße  19\, 86633 Neub
 urg an der Donau
END:VEVENT
END:VCALENDAR
