BEGIN:VCALENDAR
VERSION:2.0
PRODID:-//Sabre//Sabre VObject 4.5.8//EN
CALSCALE:GREGORIAN
BEGIN:VEVENT
UID:sabre-vobject-1dfaabf1-58ad-4b47-8de4-7d5748d88053
DTSTAMP:20260421T205702Z
SUMMARY:Des Kaisers neue Kleider
DESCRIPTION:https://regioningolstadt.com/des-kaisers-neue-kleider_id44908
DTSTART;TZID=Europe/Berlin:20260613T160000
DTEND;TZID=Europe/Berlin:20260613T164500
LOCATION:Neuburger Marionettentheater\, Amalienstraße 8\, 86633 Neuburg an
  der Donau
END:VEVENT
END:VCALENDAR
