BEGIN:VCALENDAR
VERSION:2.0
PRODID:-//Sabre//Sabre VObject 4.5.8//EN
CALSCALE:GREGORIAN
BEGIN:VEVENT
UID:sabre-vobject-3a5fa7e0-4dd7-48ab-8bca-6c2f9f6ff503
DTSTAMP:20260420T040132Z
SUMMARY:Jetzt sind wir dran
DESCRIPTION:https://regioningolstadt.com/jetzt-sind-wir-dran_id44906
DTSTART;TZID=Europe/Berlin:20260507T190000
DTEND;TZID=Europe/Berlin:20260507T220000
LOCATION:Stadtmuseum Neuburg an der Donau\, Amalienstraße  19\, 86633 Neub
 urg an der Donau
END:VEVENT
END:VCALENDAR
