BEGIN:VCALENDAR
VERSION:2.0
PRODID:-//Sabre//Sabre VObject 4.5.8//EN
CALSCALE:GREGORIAN
BEGIN:VEVENT
UID:sabre-vobject-ea0bcb35-ea74-4349-8ca3-d6c20521b61a
DTSTAMP:20260420T010131Z
SUMMARY:Heimaterlebnistag - Geführte Fahrradtour zu Dorfkirchen und Hofkap
 ellen in der Region Schrobenhausen
DESCRIPTION:https://regioningolstadt.com/heimaterlebnistag-gefuehrte-fahrra
 dtour-zu-dorfkirchen-und-hofkapellen-in-der-region-schrobenhausen_id44905
DTSTART;TZID=Europe/Berlin:20260503T130000
DURATION:PT30M
LOCATION:Treffpunkt: Bahnhof in Brunnen\, Am Bahnhof \, 86564 Brunnen
END:VEVENT
END:VCALENDAR
