BEGIN:VCALENDAR
VERSION:2.0
PRODID:-//Sabre//Sabre VObject 4.5.8//EN
CALSCALE:GREGORIAN
BEGIN:VEVENT
UID:sabre-vobject-eddd09e3-c9b5-41fb-944e-bd09fbcf67d3
DTSTAMP:20260420T091412Z
SUMMARY:Mimenfeld spielt "Jetzt sind wir dran" von Alan Ayckbourn
DESCRIPTION:https://regioningolstadt.com/mimenfeld-spielt-jetzt-sind-wir-dr
 an-von-alan-ayckbourn_id44901
DTSTART;TZID=Europe/Berlin:20260515T190000
DURATION:PT30M
LOCATION:Stadtmuseum Neuburg an der Donau\, Amalienstraße  19\, 86633 Neub
 urg an der Donau
END:VEVENT
END:VCALENDAR
