BEGIN:VCALENDAR
VERSION:2.0
PRODID:-//Sabre//Sabre VObject 4.5.8//EN
CALSCALE:GREGORIAN
BEGIN:VEVENT
UID:sabre-vobject-d802f9d8-3d1d-415b-ab8e-3be93dc6726d
DTSTAMP:20260420T072321Z
SUMMARY:Mimenfeld spielt "Jetzt sind wir dran" von Alan Ayckbourn
DESCRIPTION:https://regioningolstadt.com/mimenfeld-spielt-jetzt-sind-wir-dr
 an-von-alan-ayckbourn_id44900
DTSTART;TZID=Europe/Berlin:20260514T190000
DURATION:PT30M
LOCATION:Stadtmuseum Neuburg an der Donau\, Amalienstraße  19\, 86633 Neub
 urg an der Donau
END:VEVENT
END:VCALENDAR
