BEGIN:VCALENDAR
VERSION:2.0
PRODID:-//Sabre//Sabre VObject 4.5.8//EN
CALSCALE:GREGORIAN
BEGIN:VEVENT
UID:sabre-vobject-6bfa5c87-2b1d-4f0e-ad50-d1075f65ded4
DTSTAMP:20260420T054316Z
SUMMARY:Mimenfeld spielt "Jetzt sind wir dran" von Alan Ayckbourn
DESCRIPTION:https://regioningolstadt.com/mimenfeld-spielt-jetzt-sind-wir-dr
 an-von-alan-ayckbourn_id44899
DTSTART;TZID=Europe/Berlin:20260509T190000
DURATION:PT30M
LOCATION:Stadtmuseum Neuburg an der Donau\, Amalienstraße  19\, 86633 Neub
 urg an der Donau
END:VEVENT
END:VCALENDAR
