BEGIN:VCALENDAR
VERSION:2.0
PRODID:-//Sabre//Sabre VObject 4.5.8//EN
CALSCALE:GREGORIAN
BEGIN:VEVENT
UID:sabre-vobject-3e0dd173-9c39-4d95-9834-12f1c0eebd1d
DTSTAMP:20260419T233734Z
SUMMARY:Mimenfeld spielt "Jetzt sind wir dran" von Alan Ayckbourn
DESCRIPTION:https://regioningolstadt.com/mimenfeld-spielt-jetzt-sind-wir-dr
 an-von-alan-ayckbourn_id44898
DTSTART;TZID=Europe/Berlin:20260508T190000
DURATION:PT30M
LOCATION:Stadtmuseum Neuburg an der Donau\, Amalienstraße  19\, 86633 Neub
 urg an der Donau
END:VEVENT
END:VCALENDAR
