BEGIN:VCALENDAR
VERSION:2.0
PRODID:-//Sabre//Sabre VObject 4.5.8//EN
CALSCALE:GREGORIAN
BEGIN:VEVENT
UID:sabre-vobject-cfcfaad2-8bdc-462c-ab51-cb83336680f5
DTSTAMP:20260419T233719Z
SUMMARY:Mimenfeld spielt "Jetzt sind wir dran" von Alan Ayckbourn
DESCRIPTION:https://regioningolstadt.com/mimenfeld-spielt-jetzt-sind-wir-dr
 an-von-alan-ayckbourn_id44897
DTSTART;TZID=Europe/Berlin:20260507T190000
DURATION:PT30M
LOCATION:Stadtmuseum Neuburg an der Donau\, Amalienstraße  19\, 86633 Neub
 urg an der Donau
END:VEVENT
END:VCALENDAR
