BEGIN:VCALENDAR
VERSION:2.0
PRODID:-//Sabre//Sabre VObject 4.5.8//EN
CALSCALE:GREGORIAN
BEGIN:VEVENT
UID:sabre-vobject-7b819733-088a-430d-bb43-20996a8259bd
DTSTAMP:20260421T175446Z
SUMMARY:Fledermäuse - Faszinierende Jäger der Nacht
DESCRIPTION:https://regioningolstadt.com/fledermaeuse-faszinierende-jaeger-
 der-nacht_id44865
DTSTART;TZID=Europe/Berlin:20260604T073000
DTEND;TZID=Europe/Berlin:20260604T160000
LOCATION:Landratsamt Neuburg-Schrobenhausen\, Platz-der-Deutschen-Einheit 1
 \, 86633 Neuburg an der Donau
END:VEVENT
END:VCALENDAR
