BEGIN:VCALENDAR
VERSION:2.0
PRODID:-//Sabre//Sabre VObject 4.5.8//EN
CALSCALE:GREGORIAN
BEGIN:VEVENT
UID:sabre-vobject-71fd495a-4c72-4aa5-8846-e5822396241d
DTSTAMP:20260420T010126Z
SUMMARY:Fledermäuse - Faszinierende Jäger der Nacht
DESCRIPTION:https://regioningolstadt.com/fledermaeuse-faszinierende-jaeger-
 der-nacht_id44853
DTSTART;TZID=Europe/Berlin:20260506T073000
DTEND;TZID=Europe/Berlin:20260506T160000
LOCATION:Landratsamt Neuburg-Schrobenhausen\, Platz-der-Deutschen-Einheit 1
 \, 86633 Neuburg an der Donau
END:VEVENT
END:VCALENDAR
