BEGIN:VCALENDAR
VERSION:2.0
PRODID:-//Sabre//Sabre VObject 4.5.8//EN
CALSCALE:GREGORIAN
BEGIN:VEVENT
UID:sabre-vobject-fb705fae-8964-4447-a582-4d78053c3cd7
DTSTAMP:20260420T022257Z
SUMMARY:Fledermäuse - Faszinierende Jäger der Nacht
DESCRIPTION:https://regioningolstadt.com/fledermaeuse-faszinierende-jaeger-
 der-nacht_id44844
DTSTART;TZID=Europe/Berlin:20260428T073000
DTEND;TZID=Europe/Berlin:20260428T160000
LOCATION:Landratsamt Neuburg-Schrobenhausen\, Platz-der-Deutschen-Einheit 1
 \, 86633 Neuburg an der Donau
END:VEVENT
END:VCALENDAR
