BEGIN:VCALENDAR
VERSION:2.0
PRODID:-//Sabre//Sabre VObject 4.5.8//EN
CALSCALE:GREGORIAN
BEGIN:VEVENT
UID:sabre-vobject-a6ea0111-4691-4e62-99af-75cc4558693e
DTSTAMP:20260421T115343Z
SUMMARY:Fledermäuse - Faszinierende Jäger der Nacht
DESCRIPTION:https://regioningolstadt.com/fledermaeuse-faszinierende-jaeger-
 der-nacht_id44839
DTSTART;TZID=Europe/Berlin:20260518T073000
DTEND;TZID=Europe/Berlin:20260518T160000
LOCATION:Landratsamt Neuburg-Schrobenhausen\, Platz-der-Deutschen-Einheit 1
 \, 86633 Neuburg an der Donau
END:VEVENT
END:VCALENDAR
