BEGIN:VCALENDAR
VERSION:2.0
PRODID:-//Sabre//Sabre VObject 4.5.8//EN
CALSCALE:GREGORIAN
BEGIN:VEVENT
UID:sabre-vobject-bb7f4178-7a98-494c-ab0c-41a6ddf432fd
DTSTAMP:20260420T022258Z
SUMMARY:Fledermäuse - Faszinierende Jäger der Nacht
DESCRIPTION:https://regioningolstadt.com/fledermaeuse-faszinierende-jaeger-
 der-nacht_id44837
DTSTART;TZID=Europe/Berlin:20260504T073000
DTEND;TZID=Europe/Berlin:20260504T160000
LOCATION:Landratsamt Neuburg-Schrobenhausen\, Platz-der-Deutschen-Einheit 1
 \, 86633 Neuburg an der Donau
END:VEVENT
END:VCALENDAR
