BEGIN:VCALENDAR
VERSION:2.0
PRODID:-//Sabre//Sabre VObject 4.5.8//EN
CALSCALE:GREGORIAN
BEGIN:VEVENT
UID:sabre-vobject-e5cb42dd-4134-4f15-a058-9b6920544d75
DTSTAMP:20260420T022259Z
SUMMARY:Zum ersten Mal Mama sein
DESCRIPTION:https://regioningolstadt.com/zum-ersten-mal-mama-sein_id44730
DTSTART;TZID=Europe/Berlin:20261010T093000
DTEND;TZID=Europe/Berlin:20261010T123000
LOCATION:Online
END:VEVENT
END:VCALENDAR
