BEGIN:VCALENDAR
VERSION:2.0
PRODID:-//Sabre//Sabre VObject 4.5.8//EN
CALSCALE:GREGORIAN
BEGIN:VEVENT
UID:sabre-vobject-3d7f9b1a-5814-46e8-be03-f7f9c4511f25
DTSTAMP:20260420T054317Z
SUMMARY:Konflikte meistern - beziehungskompetente Kommunikation im Familien
 leben
DESCRIPTION:https://regioningolstadt.com/konflikte-meistern-beziehungskompe
 tente-kommunikation-im-familienleben_id44729
DTSTART;TZID=Europe/Berlin:20261006T100000
DTEND;TZID=Europe/Berlin:20261006T120000
LOCATION:Online
END:VEVENT
END:VCALENDAR
