BEGIN:VCALENDAR
VERSION:2.0
PRODID:-//Sabre//Sabre VObject 4.5.8//EN
CALSCALE:GREGORIAN
BEGIN:VEVENT
UID:sabre-vobject-7950b382-c885-4113-a46f-936afea15ae6
DTSTAMP:20260420T093009Z
SUMMARY:Spielplatzfest für Familien
DESCRIPTION:https://regioningolstadt.com/spielplatzfest-fuer-familien_id447
 24
DTSTART;TZID=Europe/Berlin:20260828T160000
DTEND;TZID=Europe/Berlin:20260828T180000
LOCATION:Spielpatz / Neuburg (wird bei Anmeldung bekannt gegeben)
END:VEVENT
END:VCALENDAR
